BEGIN:VCALENDAR
VERSION:2.0
PRODID:-//EL SHADDAI OTTAWA CHAPTER - ECPv6.15.20//NONSGML v1.0//EN
CALSCALE:GREGORIAN
METHOD:PUBLISH
X-WR-CALNAME:EL SHADDAI OTTAWA CHAPTER
X-ORIGINAL-URL:https://elshaddaiottawa.com
X-WR-CALDESC:Events for EL SHADDAI OTTAWA CHAPTER
REFRESH-INTERVAL;VALUE=DURATION:PT1H
X-Robots-Tag:noindex
X-PUBLISHED-TTL:PT1H
BEGIN:VTIMEZONE
TZID:America/Toronto
BEGIN:DAYLIGHT
TZOFFSETFROM:-0500
TZOFFSETTO:-0400
TZNAME:EDT
DTSTART:20240310T070000
END:DAYLIGHT
BEGIN:STANDARD
TZOFFSETFROM:-0400
TZOFFSETTO:-0500
TZNAME:EST
DTSTART:20241103T060000
END:STANDARD
BEGIN:DAYLIGHT
TZOFFSETFROM:-0500
TZOFFSETTO:-0400
TZNAME:EDT
DTSTART:20250309T070000
END:DAYLIGHT
BEGIN:STANDARD
TZOFFSETFROM:-0400
TZOFFSETTO:-0500
TZNAME:EST
DTSTART:20251102T060000
END:STANDARD
BEGIN:DAYLIGHT
TZOFFSETFROM:-0500
TZOFFSETTO:-0400
TZNAME:EDT
DTSTART:20260308T070000
END:DAYLIGHT
BEGIN:STANDARD
TZOFFSETFROM:-0400
TZOFFSETTO:-0500
TZNAME:EST
DTSTART:20261101T060000
END:STANDARD
END:VTIMEZONE
BEGIN:VEVENT
DTSTART;TZID=America/Toronto:20250801T070000
DTEND;TZID=America/Toronto:20250801T210000
DTSTAMP:20260420T004157
CREATED:20250729T141005Z
LAST-MODIFIED:20250729T141043Z
UID:2147-1754031600-1754082000@elshaddaiottawa.com
SUMMARY:Neighborhood Prayer Group (NPG)
DESCRIPTION:
URL:https://elshaddaiottawa.com/event/neighborhood-prayer-group-npg/
LOCATION:Sis. Gladys’ Place\, 1208 Lassiter Terrace\, Otawa\, Ontario\, Canada
CATEGORIES:Announcements
END:VEVENT
BEGIN:VEVENT
DTSTART;TZID=America/Toronto:20250803T140000
DTEND;TZID=America/Toronto:20250803T170000
DTSTAMP:20260420T004157
CREATED:20250721T154657Z
LAST-MODIFIED:20250808T165026Z
UID:2076-1754229600-1754240400@elshaddaiottawa.com
SUMMARY:August 3\, 2025
DESCRIPTION:Rosary Prayer: Intercesssory\nBinding Prayer: Bro. Rhen\nEmcees: Sis Irene\nWorship Leader: Sis Generose\nAngelus Prayer: Sis Narisa\nOpening Prayer: Sis Melba\nInspirational Talk: Sis. Jocelyn\nHealing Message: Bro. Teody
URL:https://elshaddaiottawa.com/event/august-3-2025/
LOCATION:Quebec
CATEGORIES:Announcements
END:VEVENT
BEGIN:VEVENT
DTSTART;TZID=America/Toronto:20250805T070000
DTEND;TZID=America/Toronto:20250805T203000
DTSTAMP:20260420T004157
CREATED:20250805T185932Z
LAST-MODIFIED:20250805T185932Z
UID:2154-1754377200-1754425800@elshaddaiottawa.com
SUMMARY:Bible Sharing and Reflection
DESCRIPTION:
URL:https://elshaddaiottawa.com/event/bible-sharing-and-reflection-2/
LOCATION:Sis. Jocelyn Place\, St. Laurent Blvd\, Ottawa\, Ontario\, Canada
END:VEVENT
BEGIN:VEVENT
DTSTART;TZID=America/Toronto:20250810T140000
DTEND;TZID=America/Toronto:20250810T170000
DTSTAMP:20260420T004157
CREATED:20250721T155721Z
LAST-MODIFIED:20250808T165131Z
UID:2079-1754834400-1754845200@elshaddaiottawa.com
SUMMARY:August 10\, 2025 Assignment
DESCRIPTION:Rosary Prayer: Intercesssory\nBinding Prayer: Sis. Generose\nEmcees: Sis. Marylou\nWorship Leader: Sis. Elsa\nAngelus Prayer: Sis. Lourdes\nOpening Prayer: Sis. Pam\nInspirational Talk:Sis. Novie\nHealing Message: Fr. Francis
URL:https://elshaddaiottawa.com/event/august-10-2025/
LOCATION:Quebec
CATEGORIES:Announcements
END:VEVENT
BEGIN:VEVENT
DTSTART;TZID=America/Toronto:20250817T140000
DTEND;TZID=America/Toronto:20250817T170000
DTSTAMP:20260420T004157
CREATED:20250721T161226Z
LAST-MODIFIED:20250808T165139Z
UID:2082-1755439200-1755450000@elshaddaiottawa.com
SUMMARY:August 17\, 2025 Assignment
DESCRIPTION:Rosary Prayer: Intercesssory\nBinding Prayer: Sis. Josephine\nEmcees: Sis. Rebecca\nWorship Leader: Sis. Generose\nAngelus Prayer: Sis. Rosalyn\nOpening Prayer: Sis. Yolly\nInspirational Talk:\nHealing Message:
URL:https://elshaddaiottawa.com/event/august-17-2025/
LOCATION:Quebec
CATEGORIES:Announcements
END:VEVENT
BEGIN:VEVENT
DTSTART;TZID=America/Toronto:20250817T140000
DTEND;TZID=America/Toronto:20250817T180000
DTSTAMP:20260420T004157
CREATED:20250805T190300Z
LAST-MODIFIED:20250805T190300Z
UID:2156-1755439200-1755453600@elshaddaiottawa.com
SUMMARY:41st Join Celebration Anniversarry
DESCRIPTION:
URL:https://elshaddaiottawa.com/event/41st-join-celebration-anniversarry/
LOCATION:Immaculate Heart of Mary\, 1758 Alta Vista Dr\, Otawa\, Ontario\, K1G0G6\, Canada
CATEGORIES:Announcements
END:VEVENT
BEGIN:VEVENT
DTSTART;TZID=America/Toronto:20250824T140000
DTEND;TZID=America/Toronto:20250824T170000
DTSTAMP:20260420T004157
CREATED:20250721T161412Z
LAST-MODIFIED:20250808T165149Z
UID:2084-1756044000-1756054800@elshaddaiottawa.com
SUMMARY:August 24\, 2025 Assignment
DESCRIPTION:Rosary Prayer: Intercesssory\nBinding Prayer: Sis. Elisa\nEmcees: Bro. Benedict\nWorship Leader: Sis. elisa\nAngelus Prayer: Sis. Naty\nOpening Prayer: Sis. Ivy\nInspirational Talk:\nHealing Message:
URL:https://elshaddaiottawa.com/event/august-24-2025/
LOCATION:Quebec
CATEGORIES:Announcements
END:VEVENT
BEGIN:VEVENT
DTSTART;VALUE=DATE:20250831
DTEND;VALUE=DATE:20250901
DTSTAMP:20260420T004157
CREATED:20250805T190555Z
LAST-MODIFIED:20250805T190555Z
UID:2159-1756598400-1756684799@elshaddaiottawa.com
SUMMARY:Sport Fest
DESCRIPTION:
URL:https://elshaddaiottawa.com/event/sport-fest/
LOCATION:Britannia Park\, 102 Greenview Ave\, Otawa\, Ontario\, Canada
CATEGORIES:Announcements
END:VEVENT
BEGIN:VEVENT
DTSTART;TZID=America/Toronto:20250831T140000
DTEND;TZID=America/Toronto:20250831T170000
DTSTAMP:20260420T004157
CREATED:20250721T161619Z
LAST-MODIFIED:20250808T165154Z
UID:2086-1756648800-1756659600@elshaddaiottawa.com
SUMMARY:August 31\, 2025 Assignment
DESCRIPTION:Rosary Prayer: Intercesssory\nBinding Prayer: Bro. Raul\nEmcees: Bro. Rhen\nWorship Leader: Sis. Elsa\nAngelus Prayer: Kids Ministry\nOpening Prayer: Sis. Sheryl\nInspirational Talk: Bro. Teody\nHealing Message:
URL:https://elshaddaiottawa.com/event/august-31-2025/
LOCATION:Quebec
CATEGORIES:Announcements
END:VEVENT
END:VCALENDAR