BEGIN:VCALENDAR
VERSION:2.0
PRODID:-//EL SHADDAI OTTAWA CHAPTER - ECPv6.15.20//NONSGML v1.0//EN
CALSCALE:GREGORIAN
METHOD:PUBLISH
X-ORIGINAL-URL:https://elshaddaiottawa.com
X-WR-CALDESC:Events for EL SHADDAI OTTAWA CHAPTER
REFRESH-INTERVAL;VALUE=DURATION:PT1H
X-Robots-Tag:noindex
X-PUBLISHED-TTL:PT1H
BEGIN:VTIMEZONE
TZID:America/Toronto
BEGIN:DAYLIGHT
TZOFFSETFROM:-0500
TZOFFSETTO:-0400
TZNAME:EDT
DTSTART:20240310T070000
END:DAYLIGHT
BEGIN:STANDARD
TZOFFSETFROM:-0400
TZOFFSETTO:-0500
TZNAME:EST
DTSTART:20241103T060000
END:STANDARD
BEGIN:DAYLIGHT
TZOFFSETFROM:-0500
TZOFFSETTO:-0400
TZNAME:EDT
DTSTART:20250309T070000
END:DAYLIGHT
BEGIN:STANDARD
TZOFFSETFROM:-0400
TZOFFSETTO:-0500
TZNAME:EST
DTSTART:20251102T060000
END:STANDARD
BEGIN:DAYLIGHT
TZOFFSETFROM:-0500
TZOFFSETTO:-0400
TZNAME:EDT
DTSTART:20260308T070000
END:DAYLIGHT
BEGIN:STANDARD
TZOFFSETFROM:-0400
TZOFFSETTO:-0500
TZNAME:EST
DTSTART:20261101T060000
END:STANDARD
END:VTIMEZONE
BEGIN:VEVENT
DTSTART;TZID=America/Toronto:20250722T190000
DTEND;TZID=America/Toronto:20250722T200000
DTSTAMP:20260414T163001
CREATED:20250722T025359Z
LAST-MODIFIED:20250722T130616Z
UID:2121-1753210800-1753214400@elshaddaiottawa.com
SUMMARY:Bible Sharing and Reflection
DESCRIPTION:The Parable of the Sower (NIV)\n13 That same day Jesus went out of the house and sat by the lake. 2 Such large crowds gathered around him that he got into a boat and sat in it\, while all the people stood on the shore. 3 Then he told them many things in parables\, saying: “A farmer went out to sow his seed. 4 As he was scattering the seed\, some fell along the path\, and the birds came and ate it up. 5 Some fell on rocky places\, where it did not have much soil. It sprang up quickly\, because the soil was shallow. 6 But when the sun came up\, the plants were scorched\, and they withered because they had no root. 7 Other seed fell among thorns\, which grew up and choked the plants. 8 Still other seed fell on good soil\, where it produced a crop—a hundred\, sixty or thirty times what was sown. 9 Whoever has ears\, let them hear.” \nParable of the Farmer Scattering Seed(NLT)\n13 Later that same day Jesus left the house and sat beside the lake. 2 A large crowd soon gathered around him\, so he got into a boat. Then he sat there and taught as the people stood on the shore. 3 He told many stories in the form of parables\, such as this one: \n“Listen! A farmer went out to plant some seeds. 4 As he scattered them across his field\, some seeds fell on a footpath\, and the birds came and ate them. 5 Other seeds fell on shallow soil with underlying rock. The seeds sprouted quickly because the soil was shallow. 6 But the plants soon wilted under the hot sun\, and since they didn’t have deep roots\, they died. 7 Other seeds fell among thorns that grew up and choked out the tender plants. 8 Still other seeds fell on fertile soil\, and they produced a crop that was thirty\, sixty\, and even a hundred times as much as had been planted! 9 Anyone with ears to hear should listen and understand.” \nAng Talinghaga tungkol sa Manghahasik(MBBTAG)\n13 Noon ding araw na iyon\, si Jesus ay lumabas ng bahay at naupo sa tabi ng lawa. 2 Dahil sa dami ng taong lumalapit sa kanya\, sumakay siya sa isang bangka at doon naupo. Tumayo naman sa dalampasigan ang mga tao 3 at sila’y tinuruan niya ng maraming bagay sa pamamagitan ng mga talinghaga. Ganito ang sinabi niya: \n“May isang magsasakang lumabas upang maghasik. 4 Sa kanyang paghahasik ay may mga binhing nalaglag sa tabi ng daan. Dumating ang mga ibon at tinuka ang mga iyon. 5 May mga binhi namang nalaglag sa mabatong lupa. Dahil manipis lang ang lupa roon\, sumibol agad ang mga binhi\, 6 ngunit natuyo agad ang mga ito nang mabilad sa matinding init ng araw\, palibhasa’y mababaw ang ugat. 7 May mga binhi namang nalaglag sa may matitinik na halaman. Lumago ang mga halamang matitinik at sinakal ng mga ito ang mga binhing tumubo doon. 8 Ngunit ang mga binhing nahasik sa matabang lupa ay namunga; may tig-iisandaan\, may tig-aanimnapu\, at may tigtatatlumpu. 9 Makinig ang may pandinig!”
URL:https://elshaddaiottawa.com/event/bible-sharing-and-reflection/
LOCATION:Sis. Jocelyn Place\, St. Laurent Blvd\, Ottawa\, Ontario\, Canada
END:VEVENT
BEGIN:VEVENT
DTSTART;TZID=America/Toronto:20250726T080000
DTEND;TZID=America/Toronto:20250726T170000
DTSTAMP:20260414T163001
CREATED:20250722T031937Z
LAST-MODIFIED:20250722T031937Z
UID:2127-1753516800-1753549200@elshaddaiottawa.com
SUMMARY:Mississauga  Cell Group 30th Anniversary
DESCRIPTION:MASS CELEBRANT: Rev. Gerardo V. Laguartilla\, C.PP.S. – Associate Pastor of St. Charles Borromeo\, North York ON \n\n\nCON-CELEBRANT: Rev. Samoj Sunny MCBS – Associate Pastor of St. Anthony of Padua Parish\, Brampton\, ON \n\n\nINTERNATIONAL DISCIPLE PREACHER/GOSPEL SHARER: Bro. Albert Magno
URL:https://elshaddaiottawa.com/event/mississauga-cell-group-30th-anniversary/
LOCATION:John Paul II Polish Cultural Centre\, 4300 Cawthra Rd\, Mississaug\, Ontario\, L4W3P4\, Canada
CATEGORIES:Announcements
END:VEVENT
BEGIN:VEVENT
DTSTART;TZID=America/Toronto:20250728T190000
DTEND;TZID=America/Toronto:20250728T203000
DTSTAMP:20260414T163001
CREATED:20250728T182156Z
LAST-MODIFIED:20250728T182216Z
UID:2143-1753729200-1753734600@elshaddaiottawa.com
SUMMARY:John 3:1-8
DESCRIPTION:Si Jesus at si Nicodemo\n3 May isang Pariseo na nagngangalang Nicodemo na pinuno ng mga Judio. 2 Isang gabi\, pumunta siya kay Jesus at sinabi\, “Rabi\, nalalaman po naming kayo’y isang tagapagturong mula sa Diyos\, sapagkat walang makakagawa ng mga himalang ginagawa ninyo kung wala sa inyo ang Diyos.” \n3 Sumagot si Jesus\, “Tandaan mo ang sinasabi kong ito: malibang ipanganak na muli[a] ang isang tao\, hindi niya makikita ang paghahari ng Diyos.” \n4 “Paanong maipapanganak pang muli ang isang taong matanda na? Makakapasok pa ba siya sa sinapupunan ng kanyang ina para muling ipanganak?” tanong ni Nicodemo. \n5 Sagot naman ni Jesus\, “Tandaan mo ang sinasabi kong ito: malibang ang isang tao ay ipanganak sa pamamagitan ng tubig at ng Espiritu\, hindi siya makakapasok sa kaharian ng Diyos. 6 Ang taong ipinanganak sa laman ay laman\, at ang ipinanganak sa Espiritu ay espiritu. 7 Huwag kang magtaka sa sinabi ko sa iyo\, ‘kayong lahat ay kailangang ipanganak na muli.’[b] 8 Umiihip ang hangin[c] kung saan nito nais at naririnig mo ang ugong nito\, ngunit hindi mo alam kung saan ito nanggagaling at kung saan pupunta. Ganoon din ang bawat ipinanganak sa Espiritu.”
URL:https://elshaddaiottawa.com/event/john-31-8/
LOCATION:Sis. Ivy’s Place\, 90 Harris Place\, Otawa\, Ontario\, Canada
END:VEVENT
END:VCALENDAR